
BEGIN:VCALENDAR
PRODID:-//Buz Software// Calendar//EN
VERSION:2.0
METHOD:REQUEST
BEGIN:VEVENT
DTSTART:20260507T163000Z
DTEND:20260507T190000Z
LOCATION:Woman's National Democratic Club
TRANSP:OPAQUE
SEQUENCE:0
UID:1917_1917_1917_1917
DTSTAMP:20260425T082400Z
ORGANIZER:CN=Woman's National Democratic Club:mailto:info@democraticwoman.org
STATUS:CONFIRMED
DESCRIPTION:
SUMMARY:Elaine Kamarck on Red vs. Blue: Who Has the Edge in 2026? 
PRIORITY:5
CLASS:PUBLIC
BEGIN:VALARM
TRIGGER:PT180M
ACTION:DISPLAY
DESCRIPTION:Reminder
END:VALARM
END:VEVENT
END:VCALENDAR
